BEGIN:VCALENDAR
VERSION:2.0
PRODID:-//Marshall County Historical Society &amp; Museum - ECPv6.15.20//NONSGML v1.0//EN
CALSCALE:GREGORIAN
METHOD:PUBLISH
X-ORIGINAL-URL:https://mchistoricalsociety.org
X-WR-CALDESC:Events for Marshall County Historical Society &amp; Museum
REFRESH-INTERVAL;VALUE=DURATION:PT1H
X-Robots-Tag:noindex
X-PUBLISHED-TTL:PT1H
BEGIN:VTIMEZONE
TZID:UTC
BEGIN:STANDARD
TZOFFSETFROM:+0000
TZOFFSETTO:+0000
TZNAME:UTC
DTSTART:20230101T000000
END:STANDARD
END:VTIMEZONE
BEGIN:VEVENT
DTSTART;VALUE=DATE:20240711
DTEND;VALUE=DATE:20240714
DTSTAMP:20260422T022720
CREATED:20240705T191148Z
LAST-MODIFIED:20240705T191324Z
UID:10000281-1720656000-1720915199@mchistoricalsociety.org
SUMMARY:Unique & Antique Sidewalk Sales
DESCRIPTION:
URL:https://mchistoricalsociety.org/event/unique-antique-sidewalk-sales/
LOCATION:Marshall County Historical Society & Museum\, 123 N. Michigan Street\, Plymouth\, IN\, 46563\, United States
CATEGORIES:Sidewalk Sales Fundraiser
ATTACH;FMTTYPE=image/png:https://mchistoricalsociety.org/wp-content/uploads/2024/07/Unique-Antique-Sidewalk-Sale-Graphic.png
ORGANIZER;CN="MC Historical Society & Museum":MAILTO:anitaboetsma@mchistoricalsociety.org
END:VEVENT
BEGIN:VEVENT
DTSTART;TZID=UTC:20240706T110000
DTEND;TZID=UTC:20240706T130000
DTSTAMP:20260422T022720
CREATED:20240705T190513Z
LAST-MODIFIED:20260116T145106Z
UID:10000021-1720263600-1720270800@mchistoricalsociety.org
SUMMARY:Train Room is Open
DESCRIPTION:
URL:https://mchistoricalsociety.org/event/train-room-is-open/2024-07-06/
LOCATION:Marshall County Historical Society & Museum\, 123 N. Michigan Street\, Plymouth\, IN\, 46563\, United States
CATEGORIES:Train Room Open
ATTACH;FMTTYPE=image/jpeg:https://mchistoricalsociety.org/wp-content/uploads/2024/07/EVERY-SATURDAY-1100AM-200PM.jpg
ORGANIZER;CN="MC Historical Society & Museum":MAILTO:anitaboetsma@mchistoricalsociety.org
END:VEVENT
BEGIN:VEVENT
DTSTART;TZID=UTC:20240705T120000
DTEND;TZID=UTC:20240705T130000
DTSTAMP:20260422T022720
CREATED:20240627T130347Z
LAST-MODIFIED:20240627T130543Z
UID:10000008-1720180800-1720184400@mchistoricalsociety.org
SUMMARY:Brown Bag Lunch & Lecture Event
DESCRIPTION:
URL:https://mchistoricalsociety.org/event/brown-bag-lunch-lecture-event-2/
LOCATION:Marshall County Historical Society & Museum\, 123 N. Michigan Street\, Plymouth\, IN\, 46563\, United States
CATEGORIES:Brown Bag Lunch & Lecture Event
ATTACH;FMTTYPE=image/png:https://mchistoricalsociety.org/wp-content/uploads/2024/06/Mark-Senter-Calendar.png
ORGANIZER;CN="MC Historical Society & Museum":MAILTO:anitaboetsma@mchistoricalsociety.org
END:VEVENT
BEGIN:VEVENT
DTSTART;TZID=UTC:20240604T170000
DTEND;TZID=UTC:20240604T203000
DTSTAMP:20260422T022720
CREATED:20240530T182116Z
LAST-MODIFIED:20240531T180011Z
UID:10000005-1717520400-1717533000@mchistoricalsociety.org
SUMMARY:Genealogical Society Cemetery Tour
DESCRIPTION:
URL:https://mchistoricalsociety.org/event/genealogical-society-cemetery-walk/
LOCATION:Marshall County Historical Society & Museum\, 123 N. Michigan Street\, Plymouth\, IN\, 46563\, United States
ATTACH;FMTTYPE=image/png:https://mchistoricalsociety.org/wp-content/uploads/2024/05/Cemetery-Walk-6-24-600X.png
ORGANIZER;CN="Marshall County Genealogical Society":MAILTO:anita@mchistoricalsociety.org
END:VEVENT
END:VCALENDAR