BEGIN:VCALENDAR
VERSION:2.0
PRODID:-//Marshall County Historical Society &amp; Museum - ECPv6.15.20//NONSGML v1.0//EN
CALSCALE:GREGORIAN
METHOD:PUBLISH
X-WR-CALNAME:Marshall County Historical Society &amp; Museum
X-ORIGINAL-URL:https://mchistoricalsociety.org
X-WR-CALDESC:Events for Marshall County Historical Society &amp; Museum
REFRESH-INTERVAL;VALUE=DURATION:PT1H
X-Robots-Tag:noindex
X-PUBLISHED-TTL:PT1H
BEGIN:VTIMEZONE
TZID:UTC
BEGIN:STANDARD
TZOFFSETFROM:+0000
TZOFFSETTO:+0000
TZNAME:UTC
DTSTART:20230101T000000
END:STANDARD
END:VTIMEZONE
BEGIN:VEVENT
DTSTART;TZID=UTC:20241109T110000
DTEND;TZID=UTC:20241109T130000
DTSTAMP:20260421T232218
CREATED:20240705T190513Z
LAST-MODIFIED:20260116T145106Z
UID:10000038-1731150000-1731157200@mchistoricalsociety.org
SUMMARY:Train Room is Open
DESCRIPTION:
URL:https://mchistoricalsociety.org/event/train-room-is-open/2024-11-09/
LOCATION:Marshall County Historical Society & Museum\, 123 N. Michigan Street\, Plymouth\, IN\, 46563\, United States
CATEGORIES:Train Room Open
ATTACH;FMTTYPE=image/jpeg:https://mchistoricalsociety.org/wp-content/uploads/2024/07/EVERY-SATURDAY-1100AM-200PM.jpg
ORGANIZER;CN="MC Historical Society & Museum":MAILTO:anitaboetsma@mchistoricalsociety.org
END:VEVENT
BEGIN:VEVENT
DTSTART;TZID=UTC:20241102T110000
DTEND;TZID=UTC:20241102T130000
DTSTAMP:20260421T232218
CREATED:20240705T190513Z
LAST-MODIFIED:20260116T145106Z
UID:10000037-1730545200-1730552400@mchistoricalsociety.org
SUMMARY:Train Room is Open
DESCRIPTION:
URL:https://mchistoricalsociety.org/event/train-room-is-open/2024-11-02/
LOCATION:Marshall County Historical Society & Museum\, 123 N. Michigan Street\, Plymouth\, IN\, 46563\, United States
CATEGORIES:Train Room Open
ATTACH;FMTTYPE=image/jpeg:https://mchistoricalsociety.org/wp-content/uploads/2024/07/EVERY-SATURDAY-1100AM-200PM.jpg
ORGANIZER;CN="MC Historical Society & Museum":MAILTO:anitaboetsma@mchistoricalsociety.org
END:VEVENT
BEGIN:VEVENT
DTSTART;TZID=UTC:20241030T080000
DTEND;TZID=UTC:20241110T170000
DTSTAMP:20260421T232218
CREATED:20241017T165701Z
LAST-MODIFIED:20241017T165701Z
UID:10000298-1730275200-1731258000@mchistoricalsociety.org
SUMMARY:Holiday Sale Fundraiser
DESCRIPTION:
URL:https://mchistoricalsociety.org/event/holiday-sale-fundraiser/
LOCATION:Marshall County Historical Society & Museum\, 123 N. Michigan Street\, Plymouth\, IN\, 46563\, United States
ATTACH;FMTTYPE=image/png:https://mchistoricalsociety.org/wp-content/uploads/2024/10/Christmas-Sale-600X.png
ORGANIZER;CN="MC Historical Society & Museum":MAILTO:anitaboetsma@mchistoricalsociety.org
END:VEVENT
BEGIN:VEVENT
DTSTART;TZID=UTC:20241026T190000
DTEND;TZID=UTC:20241026T200000
DTSTAMP:20260421T232218
CREATED:20241002T174004Z
LAST-MODIFIED:20241002T174004Z
UID:10000294-1729969200-1729972800@mchistoricalsociety.org
SUMMARY:Ghost Walk
DESCRIPTION:We are RAISING SPIRITS IN MARSHALL COUNTY! Plans are underway for the 2024 Ghost Walk at the Museum. It’s back\, bigger and better than ever! Held only every two years\, this is the eighth time we’ve offered one of the Museum’s most popular events. Join us Friday OR Saturday\, October 25 and 26. Hear about the dramatic demise of some early county residents\, brought to life again by our amazing group of storytellers. Explore some off-limits parts of the Museum at night\, in the dark\, with strangers \nTickets are $15 and are on sale NOW at the Museum. Please be aware that while our event is not excessively gory\, young children may be frightened. The Museum is located at 123 N. Michigan St.\, Plymouth\, IN. Reach us at 574-936-2306 with questions
URL:https://mchistoricalsociety.org/event/ghost-walk/2024-10-26/
LOCATION:Marshall County Historical Society & Museum\, 123 N. Michigan Street\, Plymouth\, IN\, 46563\, United States
ATTACH;FMTTYPE=image/png:https://mchistoricalsociety.org/wp-content/uploads/2024/10/Save-my-tickets.png
ORGANIZER;CN="MC Historical Society & Museum":MAILTO:anitaboetsma@mchistoricalsociety.org
END:VEVENT
BEGIN:VEVENT
DTSTART;TZID=UTC:20241026T110000
DTEND;TZID=UTC:20241026T130000
DTSTAMP:20260421T232218
CREATED:20240705T190513Z
LAST-MODIFIED:20260116T145106Z
UID:10000036-1729940400-1729947600@mchistoricalsociety.org
SUMMARY:Train Room is Open
DESCRIPTION:
URL:https://mchistoricalsociety.org/event/train-room-is-open/2024-10-26/
LOCATION:Marshall County Historical Society & Museum\, 123 N. Michigan Street\, Plymouth\, IN\, 46563\, United States
CATEGORIES:Train Room Open
ATTACH;FMTTYPE=image/jpeg:https://mchistoricalsociety.org/wp-content/uploads/2024/07/EVERY-SATURDAY-1100AM-200PM.jpg
ORGANIZER;CN="MC Historical Society & Museum":MAILTO:anitaboetsma@mchistoricalsociety.org
END:VEVENT
BEGIN:VEVENT
DTSTART;TZID=UTC:20241025T190000
DTEND;TZID=UTC:20241025T200000
DTSTAMP:20260421T232218
CREATED:20241002T174004Z
LAST-MODIFIED:20241002T174004Z
UID:10000293-1729882800-1729886400@mchistoricalsociety.org
SUMMARY:Ghost Walk
DESCRIPTION:We are RAISING SPIRITS IN MARSHALL COUNTY! Plans are underway for the 2024 Ghost Walk at the Museum. It’s back\, bigger and better than ever! Held only every two years\, this is the eighth time we’ve offered one of the Museum’s most popular events. Join us Friday OR Saturday\, October 25 and 26. Hear about the dramatic demise of some early county residents\, brought to life again by our amazing group of storytellers. Explore some off-limits parts of the Museum at night\, in the dark\, with strangers \nTickets are $15 and are on sale NOW at the Museum. Please be aware that while our event is not excessively gory\, young children may be frightened. The Museum is located at 123 N. Michigan St.\, Plymouth\, IN. Reach us at 574-936-2306 with questions
URL:https://mchistoricalsociety.org/event/ghost-walk/2024-10-25/
LOCATION:Marshall County Historical Society & Museum\, 123 N. Michigan Street\, Plymouth\, IN\, 46563\, United States
ATTACH;FMTTYPE=image/png:https://mchistoricalsociety.org/wp-content/uploads/2024/10/Save-my-tickets.png
ORGANIZER;CN="MC Historical Society & Museum":MAILTO:anitaboetsma@mchistoricalsociety.org
END:VEVENT
BEGIN:VEVENT
DTSTART;TZID=UTC:20241019T110000
DTEND;TZID=UTC:20241019T130000
DTSTAMP:20260421T232218
CREATED:20240705T190513Z
LAST-MODIFIED:20260116T145106Z
UID:10000035-1729335600-1729342800@mchistoricalsociety.org
SUMMARY:Train Room is Open
DESCRIPTION:
URL:https://mchistoricalsociety.org/event/train-room-is-open/2024-10-19/
LOCATION:Marshall County Historical Society & Museum\, 123 N. Michigan Street\, Plymouth\, IN\, 46563\, United States
CATEGORIES:Train Room Open
ATTACH;FMTTYPE=image/jpeg:https://mchistoricalsociety.org/wp-content/uploads/2024/07/EVERY-SATURDAY-1100AM-200PM.jpg
ORGANIZER;CN="MC Historical Society & Museum":MAILTO:anitaboetsma@mchistoricalsociety.org
END:VEVENT
BEGIN:VEVENT
DTSTART;TZID=UTC:20241012T110000
DTEND;TZID=UTC:20241012T130000
DTSTAMP:20260421T232218
CREATED:20240705T190513Z
LAST-MODIFIED:20260116T145106Z
UID:10000034-1728730800-1728738000@mchistoricalsociety.org
SUMMARY:Train Room is Open
DESCRIPTION:
URL:https://mchistoricalsociety.org/event/train-room-is-open/2024-10-12/
LOCATION:Marshall County Historical Society & Museum\, 123 N. Michigan Street\, Plymouth\, IN\, 46563\, United States
CATEGORIES:Train Room Open
ATTACH;FMTTYPE=image/jpeg:https://mchistoricalsociety.org/wp-content/uploads/2024/07/EVERY-SATURDAY-1100AM-200PM.jpg
ORGANIZER;CN="MC Historical Society & Museum":MAILTO:anitaboetsma@mchistoricalsociety.org
END:VEVENT
BEGIN:VEVENT
DTSTART;TZID=UTC:20241011T120000
DTEND;TZID=UTC:20241011T130000
DTSTAMP:20260421T232218
CREATED:20241002T173531Z
LAST-MODIFIED:20241002T174337Z
UID:10000292-1728648000-1728651600@mchistoricalsociety.org
SUMMARY:Brown Bag Lunch & Lecture Event
DESCRIPTION:Join the Marshall County Historical Society on Friday\, October 11th\, from Noon – 1:00 p.m.\, for a Brown Bag Lunch & Lecture event featuring Marshall County Historical Society & Museum’s Communications Manager\, Anita Boetsma. The topic is Spooky Marshall County. Our area has had many alleged hauntings\, bizarre deaths and unsolved mysteries over the years. Join us as Anita tells the stories of the unlucky\, the legendary\, the supernatural and the mysterious. \nBring your lunch and join us for this informative event.  The Museum is located at 123 N. Michigan St.\, Plymouth\, IN. For more information\, please call 574-936-2306.
URL:https://mchistoricalsociety.org/event/brown-bag-lunch-lecture-event-5/
LOCATION:Marshall County Historical Society & Museum\, 123 N. Michigan Street\, Plymouth\, IN\, 46563\, United States
CATEGORIES:Brown Bag Lunch & Lecture Event
ATTACH;FMTTYPE=image/png:https://mchistoricalsociety.org/wp-content/uploads/2024/10/Anita-Boetsma-Calendar.png
ORGANIZER;CN="MC Historical Society & Museum":MAILTO:anitaboetsma@mchistoricalsociety.org
END:VEVENT
BEGIN:VEVENT
DTSTART;TZID=UTC:20241005T110000
DTEND;TZID=UTC:20241005T130000
DTSTAMP:20260421T232218
CREATED:20240705T190513Z
LAST-MODIFIED:20260116T145106Z
UID:10000033-1728126000-1728133200@mchistoricalsociety.org
SUMMARY:Train Room is Open
DESCRIPTION:
URL:https://mchistoricalsociety.org/event/train-room-is-open/2024-10-05/
LOCATION:Marshall County Historical Society & Museum\, 123 N. Michigan Street\, Plymouth\, IN\, 46563\, United States
CATEGORIES:Train Room Open
ATTACH;FMTTYPE=image/jpeg:https://mchistoricalsociety.org/wp-content/uploads/2024/07/EVERY-SATURDAY-1100AM-200PM.jpg
ORGANIZER;CN="MC Historical Society & Museum":MAILTO:anitaboetsma@mchistoricalsociety.org
END:VEVENT
BEGIN:VEVENT
DTSTART;TZID=UTC:20240928T110000
DTEND;TZID=UTC:20240928T130000
DTSTAMP:20260421T232218
CREATED:20240705T190513Z
LAST-MODIFIED:20260116T145106Z
UID:10000032-1727521200-1727528400@mchistoricalsociety.org
SUMMARY:Train Room is Open
DESCRIPTION:
URL:https://mchistoricalsociety.org/event/train-room-is-open/2024-09-28/
LOCATION:Marshall County Historical Society & Museum\, 123 N. Michigan Street\, Plymouth\, IN\, 46563\, United States
CATEGORIES:Train Room Open
ATTACH;FMTTYPE=image/jpeg:https://mchistoricalsociety.org/wp-content/uploads/2024/07/EVERY-SATURDAY-1100AM-200PM.jpg
ORGANIZER;CN="MC Historical Society & Museum":MAILTO:anitaboetsma@mchistoricalsociety.org
END:VEVENT
BEGIN:VEVENT
DTSTART;TZID=UTC:20240921T110000
DTEND;TZID=UTC:20240921T130000
DTSTAMP:20260421T232218
CREATED:20240705T190513Z
LAST-MODIFIED:20260116T145106Z
UID:10000031-1726916400-1726923600@mchistoricalsociety.org
SUMMARY:Train Room is Open
DESCRIPTION:
URL:https://mchistoricalsociety.org/event/train-room-is-open/2024-09-21/
LOCATION:Marshall County Historical Society & Museum\, 123 N. Michigan Street\, Plymouth\, IN\, 46563\, United States
CATEGORIES:Train Room Open
ATTACH;FMTTYPE=image/jpeg:https://mchistoricalsociety.org/wp-content/uploads/2024/07/EVERY-SATURDAY-1100AM-200PM.jpg
ORGANIZER;CN="MC Historical Society & Museum":MAILTO:anitaboetsma@mchistoricalsociety.org
END:VEVENT
BEGIN:VEVENT
DTSTART;TZID=UTC:20240914T110000
DTEND;TZID=UTC:20240914T130000
DTSTAMP:20260421T232218
CREATED:20240705T190513Z
LAST-MODIFIED:20260116T145106Z
UID:10000030-1726311600-1726318800@mchistoricalsociety.org
SUMMARY:Train Room is Open
DESCRIPTION:
URL:https://mchistoricalsociety.org/event/train-room-is-open/2024-09-14/
LOCATION:Marshall County Historical Society & Museum\, 123 N. Michigan Street\, Plymouth\, IN\, 46563\, United States
CATEGORIES:Train Room Open
ATTACH;FMTTYPE=image/jpeg:https://mchistoricalsociety.org/wp-content/uploads/2024/07/EVERY-SATURDAY-1100AM-200PM.jpg
ORGANIZER;CN="MC Historical Society & Museum":MAILTO:anitaboetsma@mchistoricalsociety.org
END:VEVENT
BEGIN:VEVENT
DTSTART;TZID=UTC:20240907T110000
DTEND;TZID=UTC:20240907T130000
DTSTAMP:20260421T232218
CREATED:20240705T190513Z
LAST-MODIFIED:20260116T145106Z
UID:10000029-1725706800-1725714000@mchistoricalsociety.org
SUMMARY:Train Room is Open
DESCRIPTION:
URL:https://mchistoricalsociety.org/event/train-room-is-open/2024-09-07/
LOCATION:Marshall County Historical Society & Museum\, 123 N. Michigan Street\, Plymouth\, IN\, 46563\, United States
CATEGORIES:Train Room Open
ATTACH;FMTTYPE=image/jpeg:https://mchistoricalsociety.org/wp-content/uploads/2024/07/EVERY-SATURDAY-1100AM-200PM.jpg
ORGANIZER;CN="MC Historical Society & Museum":MAILTO:anitaboetsma@mchistoricalsociety.org
END:VEVENT
BEGIN:VEVENT
DTSTART;TZID=UTC:20240906T120000
DTEND;TZID=UTC:20240906T130000
DTSTAMP:20260421T232218
CREATED:20240814T154521Z
LAST-MODIFIED:20240814T162545Z
UID:10000291-1725624000-1725627600@mchistoricalsociety.org
SUMMARY:Brown Bag Lunch & Lecture Event
DESCRIPTION:
URL:https://mchistoricalsociety.org/event/brown-bag-lunch-lecture-event-4/
LOCATION:Marshall County Historical Society & Museum\, 123 N. Michigan Street\, Plymouth\, IN\, 46563\, United States
CATEGORIES:Brown Bag Lunch & Lecture Event
ATTACH;FMTTYPE=image/png:https://mchistoricalsociety.org/wp-content/uploads/2024/08/Susan-Irwin-Calendar-Calendar-2.png
ORGANIZER;CN="MC Historical Society & Museum":MAILTO:anitaboetsma@mchistoricalsociety.org
END:VEVENT
BEGIN:VEVENT
DTSTART;TZID=UTC:20240824T110000
DTEND;TZID=UTC:20240824T130000
DTSTAMP:20260421T232218
CREATED:20240705T190513Z
LAST-MODIFIED:20260116T145106Z
UID:10000028-1724497200-1724504400@mchistoricalsociety.org
SUMMARY:Train Room is Open
DESCRIPTION:
URL:https://mchistoricalsociety.org/event/train-room-is-open/2024-08-24/
LOCATION:Marshall County Historical Society & Museum\, 123 N. Michigan Street\, Plymouth\, IN\, 46563\, United States
CATEGORIES:Train Room Open
ATTACH;FMTTYPE=image/jpeg:https://mchistoricalsociety.org/wp-content/uploads/2024/07/EVERY-SATURDAY-1100AM-200PM.jpg
ORGANIZER;CN="MC Historical Society & Museum":MAILTO:anitaboetsma@mchistoricalsociety.org
END:VEVENT
BEGIN:VEVENT
DTSTART;TZID=UTC:20240817T110000
DTEND;TZID=UTC:20240817T130000
DTSTAMP:20260421T232218
CREATED:20240705T190513Z
LAST-MODIFIED:20260116T145106Z
UID:10000027-1723892400-1723899600@mchistoricalsociety.org
SUMMARY:Train Room is Open
DESCRIPTION:
URL:https://mchistoricalsociety.org/event/train-room-is-open/2024-08-17/
LOCATION:Marshall County Historical Society & Museum\, 123 N. Michigan Street\, Plymouth\, IN\, 46563\, United States
CATEGORIES:Train Room Open
ATTACH;FMTTYPE=image/jpeg:https://mchistoricalsociety.org/wp-content/uploads/2024/07/EVERY-SATURDAY-1100AM-200PM.jpg
ORGANIZER;CN="MC Historical Society & Museum":MAILTO:anitaboetsma@mchistoricalsociety.org
END:VEVENT
BEGIN:VEVENT
DTSTART;TZID=UTC:20240810T110000
DTEND;TZID=UTC:20240810T130000
DTSTAMP:20260421T232218
CREATED:20240705T190513Z
LAST-MODIFIED:20260116T145106Z
UID:10000026-1723287600-1723294800@mchistoricalsociety.org
SUMMARY:Train Room is Open
DESCRIPTION:
URL:https://mchistoricalsociety.org/event/train-room-is-open/2024-08-10/
LOCATION:Marshall County Historical Society & Museum\, 123 N. Michigan Street\, Plymouth\, IN\, 46563\, United States
CATEGORIES:Train Room Open
ATTACH;FMTTYPE=image/jpeg:https://mchistoricalsociety.org/wp-content/uploads/2024/07/EVERY-SATURDAY-1100AM-200PM.jpg
ORGANIZER;CN="MC Historical Society & Museum":MAILTO:anitaboetsma@mchistoricalsociety.org
END:VEVENT
BEGIN:VEVENT
DTSTART;TZID=UTC:20240809T120000
DTEND;TZID=UTC:20240809T130000
DTSTAMP:20260421T232218
CREATED:20240720T162244Z
LAST-MODIFIED:20240720T162945Z
UID:10000283-1723204800-1723208400@mchistoricalsociety.org
SUMMARY:Brown Bag Lunch & Lecture Event
DESCRIPTION:
URL:https://mchistoricalsociety.org/event/brown-bag-lunch-lecture-event-3/
LOCATION:Marshall County Historical Society & Museum\, 123 N. Michigan Street\, Plymouth\, IN\, 46563\, United States
CATEGORIES:Brown Bag Lunch & Lecture Event
ATTACH;FMTTYPE=image/png:https://mchistoricalsociety.org/wp-content/uploads/2024/07/Monty-Peden-Calendar.png
ORGANIZER;CN="MC Historical Society & Museum":MAILTO:anitaboetsma@mchistoricalsociety.org
END:VEVENT
BEGIN:VEVENT
DTSTART;TZID=UTC:20240803T110000
DTEND;TZID=UTC:20240803T130000
DTSTAMP:20260421T232218
CREATED:20240705T190513Z
LAST-MODIFIED:20260116T145106Z
UID:10000025-1722682800-1722690000@mchistoricalsociety.org
SUMMARY:Train Room is Open
DESCRIPTION:
URL:https://mchistoricalsociety.org/event/train-room-is-open/2024-08-03/
LOCATION:Marshall County Historical Society & Museum\, 123 N. Michigan Street\, Plymouth\, IN\, 46563\, United States
CATEGORIES:Train Room Open
ATTACH;FMTTYPE=image/jpeg:https://mchistoricalsociety.org/wp-content/uploads/2024/07/EVERY-SATURDAY-1100AM-200PM.jpg
ORGANIZER;CN="MC Historical Society & Museum":MAILTO:anitaboetsma@mchistoricalsociety.org
END:VEVENT
BEGIN:VEVENT
DTSTART;TZID=UTC:20240727T110000
DTEND;TZID=UTC:20240727T130000
DTSTAMP:20260421T232218
CREATED:20240705T190513Z
LAST-MODIFIED:20260116T145106Z
UID:10000024-1722078000-1722085200@mchistoricalsociety.org
SUMMARY:Train Room is Open
DESCRIPTION:
URL:https://mchistoricalsociety.org/event/train-room-is-open/2024-07-27/
LOCATION:Marshall County Historical Society & Museum\, 123 N. Michigan Street\, Plymouth\, IN\, 46563\, United States
CATEGORIES:Train Room Open
ATTACH;FMTTYPE=image/jpeg:https://mchistoricalsociety.org/wp-content/uploads/2024/07/EVERY-SATURDAY-1100AM-200PM.jpg
ORGANIZER;CN="MC Historical Society & Museum":MAILTO:anitaboetsma@mchistoricalsociety.org
END:VEVENT
BEGIN:VEVENT
DTSTART;TZID=UTC:20240727T100000
DTEND;TZID=UTC:20240727T160000
DTSTAMP:20260421T232218
CREATED:20240723T171353Z
LAST-MODIFIED:20240723T171353Z
UID:10000288-1722074400-1722096000@mchistoricalsociety.org
SUMMARY:Shrinky Dink Craft at the Museum
DESCRIPTION:
URL:https://mchistoricalsociety.org/event/shrinky-dink-craft-at-the-museum/
LOCATION:Marshall County Historical Society & Museum\, 123 N. Michigan Street\, Plymouth\, IN\, 46563\, United States
CATEGORIES:Kids Activity
ATTACH;FMTTYPE=image/png:https://mchistoricalsociety.org/wp-content/uploads/2024/07/Shrinky-Dinks-600X.png
ORGANIZER;CN="MC Historical Society & Museum":MAILTO:anitaboetsma@mchistoricalsociety.org
END:VEVENT
BEGIN:VEVENT
DTSTART;TZID=UTC:20240720T110000
DTEND;TZID=UTC:20240720T130000
DTSTAMP:20260421T232218
CREATED:20240705T190513Z
LAST-MODIFIED:20260116T145106Z
UID:10000023-1721473200-1721480400@mchistoricalsociety.org
SUMMARY:Train Room is Open
DESCRIPTION:
URL:https://mchistoricalsociety.org/event/train-room-is-open/2024-07-20/
LOCATION:Marshall County Historical Society & Museum\, 123 N. Michigan Street\, Plymouth\, IN\, 46563\, United States
CATEGORIES:Train Room Open
ATTACH;FMTTYPE=image/jpeg:https://mchistoricalsociety.org/wp-content/uploads/2024/07/EVERY-SATURDAY-1100AM-200PM.jpg
ORGANIZER;CN="MC Historical Society & Museum":MAILTO:anitaboetsma@mchistoricalsociety.org
END:VEVENT
BEGIN:VEVENT
DTSTART;TZID=UTC:20240713T110000
DTEND;TZID=UTC:20240713T130000
DTSTAMP:20260421T232218
CREATED:20240705T190513Z
LAST-MODIFIED:20260116T145106Z
UID:10000022-1720868400-1720875600@mchistoricalsociety.org
SUMMARY:Train Room is Open
DESCRIPTION:
URL:https://mchistoricalsociety.org/event/train-room-is-open/2024-07-13/
LOCATION:Marshall County Historical Society & Museum\, 123 N. Michigan Street\, Plymouth\, IN\, 46563\, United States
CATEGORIES:Train Room Open
ATTACH;FMTTYPE=image/jpeg:https://mchistoricalsociety.org/wp-content/uploads/2024/07/EVERY-SATURDAY-1100AM-200PM.jpg
ORGANIZER;CN="MC Historical Society & Museum":MAILTO:anitaboetsma@mchistoricalsociety.org
END:VEVENT
BEGIN:VEVENT
DTSTART;VALUE=DATE:20240711
DTEND;VALUE=DATE:20240714
DTSTAMP:20260421T232218
CREATED:20240705T191148Z
LAST-MODIFIED:20240705T191324Z
UID:10000281-1720656000-1720915199@mchistoricalsociety.org
SUMMARY:Unique & Antique Sidewalk Sales
DESCRIPTION:
URL:https://mchistoricalsociety.org/event/unique-antique-sidewalk-sales/
LOCATION:Marshall County Historical Society & Museum\, 123 N. Michigan Street\, Plymouth\, IN\, 46563\, United States
CATEGORIES:Sidewalk Sales Fundraiser
ATTACH;FMTTYPE=image/png:https://mchistoricalsociety.org/wp-content/uploads/2024/07/Unique-Antique-Sidewalk-Sale-Graphic.png
ORGANIZER;CN="MC Historical Society & Museum":MAILTO:anitaboetsma@mchistoricalsociety.org
END:VEVENT
BEGIN:VEVENT
DTSTART;TZID=UTC:20240706T110000
DTEND;TZID=UTC:20240706T130000
DTSTAMP:20260421T232218
CREATED:20240705T190513Z
LAST-MODIFIED:20260116T145106Z
UID:10000021-1720263600-1720270800@mchistoricalsociety.org
SUMMARY:Train Room is Open
DESCRIPTION:
URL:https://mchistoricalsociety.org/event/train-room-is-open/2024-07-06/
LOCATION:Marshall County Historical Society & Museum\, 123 N. Michigan Street\, Plymouth\, IN\, 46563\, United States
CATEGORIES:Train Room Open
ATTACH;FMTTYPE=image/jpeg:https://mchistoricalsociety.org/wp-content/uploads/2024/07/EVERY-SATURDAY-1100AM-200PM.jpg
ORGANIZER;CN="MC Historical Society & Museum":MAILTO:anitaboetsma@mchistoricalsociety.org
END:VEVENT
BEGIN:VEVENT
DTSTART;TZID=UTC:20240705T120000
DTEND;TZID=UTC:20240705T130000
DTSTAMP:20260421T232218
CREATED:20240627T130347Z
LAST-MODIFIED:20240627T130543Z
UID:10000008-1720180800-1720184400@mchistoricalsociety.org
SUMMARY:Brown Bag Lunch & Lecture Event
DESCRIPTION:
URL:https://mchistoricalsociety.org/event/brown-bag-lunch-lecture-event-2/
LOCATION:Marshall County Historical Society & Museum\, 123 N. Michigan Street\, Plymouth\, IN\, 46563\, United States
CATEGORIES:Brown Bag Lunch & Lecture Event
ATTACH;FMTTYPE=image/png:https://mchistoricalsociety.org/wp-content/uploads/2024/06/Mark-Senter-Calendar.png
ORGANIZER;CN="MC Historical Society & Museum":MAILTO:anitaboetsma@mchistoricalsociety.org
END:VEVENT
BEGIN:VEVENT
DTSTART;TZID=UTC:20240604T170000
DTEND;TZID=UTC:20240604T203000
DTSTAMP:20260421T232218
CREATED:20240530T182116Z
LAST-MODIFIED:20240531T180011Z
UID:10000005-1717520400-1717533000@mchistoricalsociety.org
SUMMARY:Genealogical Society Cemetery Tour
DESCRIPTION:
URL:https://mchistoricalsociety.org/event/genealogical-society-cemetery-walk/
LOCATION:Marshall County Historical Society & Museum\, 123 N. Michigan Street\, Plymouth\, IN\, 46563\, United States
ATTACH;FMTTYPE=image/png:https://mchistoricalsociety.org/wp-content/uploads/2024/05/Cemetery-Walk-6-24-600X.png
ORGANIZER;CN="Marshall County Genealogical Society":MAILTO:anita@mchistoricalsociety.org
END:VEVENT
END:VCALENDAR