BEGIN:VCALENDAR
VERSION:2.0
PRODID:-//Marshall County Historical Society &amp; Museum - ECPv6.15.20//NONSGML v1.0//EN
CALSCALE:GREGORIAN
METHOD:PUBLISH
X-ORIGINAL-URL:https://mchistoricalsociety.org
X-WR-CALDESC:Events for Marshall County Historical Society &amp; Museum
REFRESH-INTERVAL;VALUE=DURATION:PT1H
X-Robots-Tag:noindex
X-PUBLISHED-TTL:PT1H
BEGIN:VTIMEZONE
TZID:UTC
BEGIN:STANDARD
TZOFFSETFROM:+0000
TZOFFSETTO:+0000
TZNAME:UTC
DTSTART:20250101T000000
END:STANDARD
END:VTIMEZONE
BEGIN:VEVENT
DTSTART;TZID=UTC:20260425T110000
DTEND;TZID=UTC:20260425T130000
DTSTAMP:20260421T020354
CREATED:20240705T190513Z
LAST-MODIFIED:20260116T145106Z
UID:10000114-1777114800-1777122000@mchistoricalsociety.org
SUMMARY:Train Room is Open
DESCRIPTION:
URL:https://mchistoricalsociety.org/event/train-room-is-open/2026-04-25/
LOCATION:Marshall County Historical Society & Museum\, 123 N. Michigan Street\, Plymouth\, IN\, 46563\, United States
CATEGORIES:Train Room Open
ATTACH;FMTTYPE=image/jpeg:https://mchistoricalsociety.org/wp-content/uploads/2024/07/EVERY-SATURDAY-1100AM-200PM.jpg
ORGANIZER;CN="MC Historical Society & Museum":MAILTO:anitaboetsma@mchistoricalsociety.org
END:VEVENT
BEGIN:VEVENT
DTSTART;TZID=UTC:20260502T110000
DTEND;TZID=UTC:20260502T130000
DTSTAMP:20260421T020354
CREATED:20240705T190513Z
LAST-MODIFIED:20260116T145106Z
UID:10000115-1777719600-1777726800@mchistoricalsociety.org
SUMMARY:Train Room is Open
DESCRIPTION:
URL:https://mchistoricalsociety.org/event/train-room-is-open/2026-05-02/
LOCATION:Marshall County Historical Society & Museum\, 123 N. Michigan Street\, Plymouth\, IN\, 46563\, United States
CATEGORIES:Train Room Open
ATTACH;FMTTYPE=image/jpeg:https://mchistoricalsociety.org/wp-content/uploads/2024/07/EVERY-SATURDAY-1100AM-200PM.jpg
ORGANIZER;CN="MC Historical Society & Museum":MAILTO:anitaboetsma@mchistoricalsociety.org
END:VEVENT
BEGIN:VEVENT
DTSTART;TZID=UTC:20260505T180000
DTEND;TZID=UTC:20260505T190000
DTSTAMP:20260421T020354
CREATED:20250820T143506Z
LAST-MODIFIED:20250820T143715Z
UID:10000327-1778004000-1778007600@mchistoricalsociety.org
SUMMARY:Genealogical Society Meeting
DESCRIPTION:
URL:https://mchistoricalsociety.org/event/genealogical-society-meeting/2026-05-05/
LOCATION:Marshall County Historical Society & Museum\, 123 N. Michigan Street\, Plymouth\, IN\, 46563\, United States
CATEGORIES:Genealogy Society Meeting
ATTACH;FMTTYPE=image/png:https://mchistoricalsociety.org/wp-content/uploads/2024/07/Genealogy-Society-Meeting-Web-Image.png
ORGANIZER;CN="Marshall County Genealogical Society":MAILTO:anita@mchistoricalsociety.org
END:VEVENT
BEGIN:VEVENT
DTSTART;TZID=UTC:20260509T110000
DTEND;TZID=UTC:20260509T130000
DTSTAMP:20260421T020354
CREATED:20240705T190513Z
LAST-MODIFIED:20260116T145106Z
UID:10000116-1778324400-1778331600@mchistoricalsociety.org
SUMMARY:Train Room is Open
DESCRIPTION:
URL:https://mchistoricalsociety.org/event/train-room-is-open/2026-05-09/
LOCATION:Marshall County Historical Society & Museum\, 123 N. Michigan Street\, Plymouth\, IN\, 46563\, United States
CATEGORIES:Train Room Open
ATTACH;FMTTYPE=image/jpeg:https://mchistoricalsociety.org/wp-content/uploads/2024/07/EVERY-SATURDAY-1100AM-200PM.jpg
ORGANIZER;CN="MC Historical Society & Museum":MAILTO:anitaboetsma@mchistoricalsociety.org
END:VEVENT
BEGIN:VEVENT
DTSTART;TZID=UTC:20260515T180000
DTEND;TZID=UTC:20260515T193000
DTSTAMP:20260421T020354
CREATED:20260402T132055Z
LAST-MODIFIED:20260402T132055Z
UID:10000477-1778868000-1778873400@mchistoricalsociety.org
SUMMARY:Pioneer Potluck Annual Meeting
DESCRIPTION:Let’s celebrate our Marshall County Pioneer spirit! Bring a special family recipe to share.
URL:https://mchistoricalsociety.org/event/pioneer-potluck-annual-meeting/
LOCATION:Marshall County Historical Society & Museum\, 123 N. Michigan Street\, Plymouth\, IN\, 46563\, United States
CATEGORIES:Annual Meeting
ATTACH;FMTTYPE=image/png:https://mchistoricalsociety.org/wp-content/uploads/2026/04/Pioneer-Pot-Luck.png
ORGANIZER;CN="MC Historical Society & Museum":MAILTO:anitaboetsma@mchistoricalsociety.org
END:VEVENT
BEGIN:VEVENT
DTSTART;TZID=UTC:20260516T110000
DTEND;TZID=UTC:20260516T130000
DTSTAMP:20260421T020354
CREATED:20240705T190513Z
LAST-MODIFIED:20260116T145106Z
UID:10000117-1778929200-1778936400@mchistoricalsociety.org
SUMMARY:Train Room is Open
DESCRIPTION:
URL:https://mchistoricalsociety.org/event/train-room-is-open/2026-05-16/
LOCATION:Marshall County Historical Society & Museum\, 123 N. Michigan Street\, Plymouth\, IN\, 46563\, United States
CATEGORIES:Train Room Open
ATTACH;FMTTYPE=image/jpeg:https://mchistoricalsociety.org/wp-content/uploads/2024/07/EVERY-SATURDAY-1100AM-200PM.jpg
ORGANIZER;CN="MC Historical Society & Museum":MAILTO:anitaboetsma@mchistoricalsociety.org
END:VEVENT
BEGIN:VEVENT
DTSTART;TZID=UTC:20260523T110000
DTEND;TZID=UTC:20260523T130000
DTSTAMP:20260421T020354
CREATED:20240705T190513Z
LAST-MODIFIED:20260116T145106Z
UID:10000118-1779534000-1779541200@mchistoricalsociety.org
SUMMARY:Train Room is Open
DESCRIPTION:
URL:https://mchistoricalsociety.org/event/train-room-is-open/2026-05-23/
LOCATION:Marshall County Historical Society & Museum\, 123 N. Michigan Street\, Plymouth\, IN\, 46563\, United States
CATEGORIES:Train Room Open
ATTACH;FMTTYPE=image/jpeg:https://mchistoricalsociety.org/wp-content/uploads/2024/07/EVERY-SATURDAY-1100AM-200PM.jpg
ORGANIZER;CN="MC Historical Society & Museum":MAILTO:anitaboetsma@mchistoricalsociety.org
END:VEVENT
BEGIN:VEVENT
DTSTART;TZID=UTC:20260530T110000
DTEND;TZID=UTC:20260530T130000
DTSTAMP:20260421T020354
CREATED:20240705T190513Z
LAST-MODIFIED:20260116T145106Z
UID:10000119-1780138800-1780146000@mchistoricalsociety.org
SUMMARY:Train Room is Open
DESCRIPTION:
URL:https://mchistoricalsociety.org/event/train-room-is-open/2026-05-30/
LOCATION:Marshall County Historical Society & Museum\, 123 N. Michigan Street\, Plymouth\, IN\, 46563\, United States
CATEGORIES:Train Room Open
ATTACH;FMTTYPE=image/jpeg:https://mchistoricalsociety.org/wp-content/uploads/2024/07/EVERY-SATURDAY-1100AM-200PM.jpg
ORGANIZER;CN="MC Historical Society & Museum":MAILTO:anitaboetsma@mchistoricalsociety.org
END:VEVENT
BEGIN:VEVENT
DTSTART;TZID=UTC:20260602T180000
DTEND;TZID=UTC:20260602T190000
DTSTAMP:20260421T020354
CREATED:20250820T143506Z
LAST-MODIFIED:20250820T143715Z
UID:10000328-1780423200-1780426800@mchistoricalsociety.org
SUMMARY:Genealogical Society Meeting
DESCRIPTION:
URL:https://mchistoricalsociety.org/event/genealogical-society-meeting/2026-06-02/
LOCATION:Marshall County Historical Society & Museum\, 123 N. Michigan Street\, Plymouth\, IN\, 46563\, United States
CATEGORIES:Genealogy Society Meeting
ATTACH;FMTTYPE=image/png:https://mchistoricalsociety.org/wp-content/uploads/2024/07/Genealogy-Society-Meeting-Web-Image.png
ORGANIZER;CN="Marshall County Genealogical Society":MAILTO:anita@mchistoricalsociety.org
END:VEVENT
BEGIN:VEVENT
DTSTART;TZID=UTC:20260606T110000
DTEND;TZID=UTC:20260606T130000
DTSTAMP:20260421T020354
CREATED:20240705T190513Z
LAST-MODIFIED:20260116T145106Z
UID:10000120-1780743600-1780750800@mchistoricalsociety.org
SUMMARY:Train Room is Open
DESCRIPTION:
URL:https://mchistoricalsociety.org/event/train-room-is-open/2026-06-06/
LOCATION:Marshall County Historical Society & Museum\, 123 N. Michigan Street\, Plymouth\, IN\, 46563\, United States
CATEGORIES:Train Room Open
ATTACH;FMTTYPE=image/jpeg:https://mchistoricalsociety.org/wp-content/uploads/2024/07/EVERY-SATURDAY-1100AM-200PM.jpg
ORGANIZER;CN="MC Historical Society & Museum":MAILTO:anitaboetsma@mchistoricalsociety.org
END:VEVENT
BEGIN:VEVENT
DTSTART;TZID=UTC:20260613T110000
DTEND;TZID=UTC:20260613T130000
DTSTAMP:20260421T020354
CREATED:20240705T190513Z
LAST-MODIFIED:20260116T145106Z
UID:10000121-1781348400-1781355600@mchistoricalsociety.org
SUMMARY:Train Room is Open
DESCRIPTION:
URL:https://mchistoricalsociety.org/event/train-room-is-open/2026-06-13/
LOCATION:Marshall County Historical Society & Museum\, 123 N. Michigan Street\, Plymouth\, IN\, 46563\, United States
CATEGORIES:Train Room Open
ATTACH;FMTTYPE=image/jpeg:https://mchistoricalsociety.org/wp-content/uploads/2024/07/EVERY-SATURDAY-1100AM-200PM.jpg
ORGANIZER;CN="MC Historical Society & Museum":MAILTO:anitaboetsma@mchistoricalsociety.org
END:VEVENT
BEGIN:VEVENT
DTSTART;TZID=UTC:20260620T110000
DTEND;TZID=UTC:20260620T130000
DTSTAMP:20260421T020354
CREATED:20240705T190513Z
LAST-MODIFIED:20260116T145106Z
UID:10000122-1781953200-1781960400@mchistoricalsociety.org
SUMMARY:Train Room is Open
DESCRIPTION:
URL:https://mchistoricalsociety.org/event/train-room-is-open/2026-06-20/
LOCATION:Marshall County Historical Society & Museum\, 123 N. Michigan Street\, Plymouth\, IN\, 46563\, United States
CATEGORIES:Train Room Open
ATTACH;FMTTYPE=image/jpeg:https://mchistoricalsociety.org/wp-content/uploads/2024/07/EVERY-SATURDAY-1100AM-200PM.jpg
ORGANIZER;CN="MC Historical Society & Museum":MAILTO:anitaboetsma@mchistoricalsociety.org
END:VEVENT
BEGIN:VEVENT
DTSTART;TZID=UTC:20260627T110000
DTEND;TZID=UTC:20260627T130000
DTSTAMP:20260421T020354
CREATED:20240705T190513Z
LAST-MODIFIED:20260116T145106Z
UID:10000123-1782558000-1782565200@mchistoricalsociety.org
SUMMARY:Train Room is Open
DESCRIPTION:
URL:https://mchistoricalsociety.org/event/train-room-is-open/2026-06-27/
LOCATION:Marshall County Historical Society & Museum\, 123 N. Michigan Street\, Plymouth\, IN\, 46563\, United States
CATEGORIES:Train Room Open
ATTACH;FMTTYPE=image/jpeg:https://mchistoricalsociety.org/wp-content/uploads/2024/07/EVERY-SATURDAY-1100AM-200PM.jpg
ORGANIZER;CN="MC Historical Society & Museum":MAILTO:anitaboetsma@mchistoricalsociety.org
END:VEVENT
BEGIN:VEVENT
DTSTART;TZID=UTC:20260704T110000
DTEND;TZID=UTC:20260704T130000
DTSTAMP:20260421T020354
CREATED:20240705T190513Z
LAST-MODIFIED:20260116T145106Z
UID:10000124-1783162800-1783170000@mchistoricalsociety.org
SUMMARY:Train Room is Open
DESCRIPTION:
URL:https://mchistoricalsociety.org/event/train-room-is-open/2026-07-04/
LOCATION:Marshall County Historical Society & Museum\, 123 N. Michigan Street\, Plymouth\, IN\, 46563\, United States
CATEGORIES:Train Room Open
ATTACH;FMTTYPE=image/jpeg:https://mchistoricalsociety.org/wp-content/uploads/2024/07/EVERY-SATURDAY-1100AM-200PM.jpg
ORGANIZER;CN="MC Historical Society & Museum":MAILTO:anitaboetsma@mchistoricalsociety.org
END:VEVENT
BEGIN:VEVENT
DTSTART;TZID=UTC:20260707T180000
DTEND;TZID=UTC:20260707T190000
DTSTAMP:20260421T020354
CREATED:20250820T143506Z
LAST-MODIFIED:20250820T143715Z
UID:10000329-1783447200-1783450800@mchistoricalsociety.org
SUMMARY:Genealogical Society Meeting
DESCRIPTION:
URL:https://mchistoricalsociety.org/event/genealogical-society-meeting/2026-07-07/
LOCATION:Marshall County Historical Society & Museum\, 123 N. Michigan Street\, Plymouth\, IN\, 46563\, United States
CATEGORIES:Genealogy Society Meeting
ATTACH;FMTTYPE=image/png:https://mchistoricalsociety.org/wp-content/uploads/2024/07/Genealogy-Society-Meeting-Web-Image.png
ORGANIZER;CN="Marshall County Genealogical Society":MAILTO:anita@mchistoricalsociety.org
END:VEVENT
BEGIN:VEVENT
DTSTART;TZID=UTC:20260711T110000
DTEND;TZID=UTC:20260711T130000
DTSTAMP:20260421T020354
CREATED:20240705T190513Z
LAST-MODIFIED:20260116T145106Z
UID:10000125-1783767600-1783774800@mchistoricalsociety.org
SUMMARY:Train Room is Open
DESCRIPTION:
URL:https://mchistoricalsociety.org/event/train-room-is-open/2026-07-11/
LOCATION:Marshall County Historical Society & Museum\, 123 N. Michigan Street\, Plymouth\, IN\, 46563\, United States
CATEGORIES:Train Room Open
ATTACH;FMTTYPE=image/jpeg:https://mchistoricalsociety.org/wp-content/uploads/2024/07/EVERY-SATURDAY-1100AM-200PM.jpg
ORGANIZER;CN="MC Historical Society & Museum":MAILTO:anitaboetsma@mchistoricalsociety.org
END:VEVENT
BEGIN:VEVENT
DTSTART;TZID=UTC:20260718T110000
DTEND;TZID=UTC:20260718T130000
DTSTAMP:20260421T020354
CREATED:20240705T190513Z
LAST-MODIFIED:20260116T145106Z
UID:10000126-1784372400-1784379600@mchistoricalsociety.org
SUMMARY:Train Room is Open
DESCRIPTION:
URL:https://mchistoricalsociety.org/event/train-room-is-open/2026-07-18/
LOCATION:Marshall County Historical Society & Museum\, 123 N. Michigan Street\, Plymouth\, IN\, 46563\, United States
CATEGORIES:Train Room Open
ATTACH;FMTTYPE=image/jpeg:https://mchistoricalsociety.org/wp-content/uploads/2024/07/EVERY-SATURDAY-1100AM-200PM.jpg
ORGANIZER;CN="MC Historical Society & Museum":MAILTO:anitaboetsma@mchistoricalsociety.org
END:VEVENT
BEGIN:VEVENT
DTSTART;TZID=UTC:20260725T110000
DTEND;TZID=UTC:20260725T130000
DTSTAMP:20260421T020354
CREATED:20240705T190513Z
LAST-MODIFIED:20260116T145106Z
UID:10000127-1784977200-1784984400@mchistoricalsociety.org
SUMMARY:Train Room is Open
DESCRIPTION:
URL:https://mchistoricalsociety.org/event/train-room-is-open/2026-07-25/
LOCATION:Marshall County Historical Society & Museum\, 123 N. Michigan Street\, Plymouth\, IN\, 46563\, United States
CATEGORIES:Train Room Open
ATTACH;FMTTYPE=image/jpeg:https://mchistoricalsociety.org/wp-content/uploads/2024/07/EVERY-SATURDAY-1100AM-200PM.jpg
ORGANIZER;CN="MC Historical Society & Museum":MAILTO:anitaboetsma@mchistoricalsociety.org
END:VEVENT
BEGIN:VEVENT
DTSTART;TZID=UTC:20260801T110000
DTEND;TZID=UTC:20260801T130000
DTSTAMP:20260421T020354
CREATED:20240705T190513Z
LAST-MODIFIED:20260116T145106Z
UID:10000128-1785582000-1785589200@mchistoricalsociety.org
SUMMARY:Train Room is Open
DESCRIPTION:
URL:https://mchistoricalsociety.org/event/train-room-is-open/2026-08-01/
LOCATION:Marshall County Historical Society & Museum\, 123 N. Michigan Street\, Plymouth\, IN\, 46563\, United States
CATEGORIES:Train Room Open
ATTACH;FMTTYPE=image/jpeg:https://mchistoricalsociety.org/wp-content/uploads/2024/07/EVERY-SATURDAY-1100AM-200PM.jpg
ORGANIZER;CN="MC Historical Society & Museum":MAILTO:anitaboetsma@mchistoricalsociety.org
END:VEVENT
BEGIN:VEVENT
DTSTART;TZID=UTC:20260804T180000
DTEND;TZID=UTC:20260804T190000
DTSTAMP:20260421T020354
CREATED:20250820T143506Z
LAST-MODIFIED:20250820T143715Z
UID:10000330-1785866400-1785870000@mchistoricalsociety.org
SUMMARY:Genealogical Society Meeting
DESCRIPTION:
URL:https://mchistoricalsociety.org/event/genealogical-society-meeting/2026-08-04/
LOCATION:Marshall County Historical Society & Museum\, 123 N. Michigan Street\, Plymouth\, IN\, 46563\, United States
CATEGORIES:Genealogy Society Meeting
ATTACH;FMTTYPE=image/png:https://mchistoricalsociety.org/wp-content/uploads/2024/07/Genealogy-Society-Meeting-Web-Image.png
ORGANIZER;CN="Marshall County Genealogical Society":MAILTO:anita@mchistoricalsociety.org
END:VEVENT
BEGIN:VEVENT
DTSTART;TZID=UTC:20260808T110000
DTEND;TZID=UTC:20260808T130000
DTSTAMP:20260421T020354
CREATED:20240705T190513Z
LAST-MODIFIED:20260116T145106Z
UID:10000129-1786186800-1786194000@mchistoricalsociety.org
SUMMARY:Train Room is Open
DESCRIPTION:
URL:https://mchistoricalsociety.org/event/train-room-is-open/2026-08-08/
LOCATION:Marshall County Historical Society & Museum\, 123 N. Michigan Street\, Plymouth\, IN\, 46563\, United States
CATEGORIES:Train Room Open
ATTACH;FMTTYPE=image/jpeg:https://mchistoricalsociety.org/wp-content/uploads/2024/07/EVERY-SATURDAY-1100AM-200PM.jpg
ORGANIZER;CN="MC Historical Society & Museum":MAILTO:anitaboetsma@mchistoricalsociety.org
END:VEVENT
BEGIN:VEVENT
DTSTART;TZID=UTC:20260815T110000
DTEND;TZID=UTC:20260815T130000
DTSTAMP:20260421T020354
CREATED:20240705T190513Z
LAST-MODIFIED:20260116T145106Z
UID:10000130-1786791600-1786798800@mchistoricalsociety.org
SUMMARY:Train Room is Open
DESCRIPTION:
URL:https://mchistoricalsociety.org/event/train-room-is-open/2026-08-15/
LOCATION:Marshall County Historical Society & Museum\, 123 N. Michigan Street\, Plymouth\, IN\, 46563\, United States
CATEGORIES:Train Room Open
ATTACH;FMTTYPE=image/jpeg:https://mchistoricalsociety.org/wp-content/uploads/2024/07/EVERY-SATURDAY-1100AM-200PM.jpg
ORGANIZER;CN="MC Historical Society & Museum":MAILTO:anitaboetsma@mchistoricalsociety.org
END:VEVENT
BEGIN:VEVENT
DTSTART;TZID=UTC:20260822T110000
DTEND;TZID=UTC:20260822T130000
DTSTAMP:20260421T020354
CREATED:20240705T190513Z
LAST-MODIFIED:20260116T145106Z
UID:10000131-1787396400-1787403600@mchistoricalsociety.org
SUMMARY:Train Room is Open
DESCRIPTION:
URL:https://mchistoricalsociety.org/event/train-room-is-open/2026-08-22/
LOCATION:Marshall County Historical Society & Museum\, 123 N. Michigan Street\, Plymouth\, IN\, 46563\, United States
CATEGORIES:Train Room Open
ATTACH;FMTTYPE=image/jpeg:https://mchistoricalsociety.org/wp-content/uploads/2024/07/EVERY-SATURDAY-1100AM-200PM.jpg
ORGANIZER;CN="MC Historical Society & Museum":MAILTO:anitaboetsma@mchistoricalsociety.org
END:VEVENT
BEGIN:VEVENT
DTSTART;TZID=UTC:20260829T110000
DTEND;TZID=UTC:20260829T130000
DTSTAMP:20260421T020354
CREATED:20240705T190513Z
LAST-MODIFIED:20260116T145106Z
UID:10000132-1788001200-1788008400@mchistoricalsociety.org
SUMMARY:Train Room is Open
DESCRIPTION:
URL:https://mchistoricalsociety.org/event/train-room-is-open/2026-08-29/
LOCATION:Marshall County Historical Society & Museum\, 123 N. Michigan Street\, Plymouth\, IN\, 46563\, United States
CATEGORIES:Train Room Open
ATTACH;FMTTYPE=image/jpeg:https://mchistoricalsociety.org/wp-content/uploads/2024/07/EVERY-SATURDAY-1100AM-200PM.jpg
ORGANIZER;CN="MC Historical Society & Museum":MAILTO:anitaboetsma@mchistoricalsociety.org
END:VEVENT
BEGIN:VEVENT
DTSTART;TZID=UTC:20260901T180000
DTEND;TZID=UTC:20260901T190000
DTSTAMP:20260421T020354
CREATED:20250820T143506Z
LAST-MODIFIED:20250820T143715Z
UID:10000331-1788285600-1788289200@mchistoricalsociety.org
SUMMARY:Genealogical Society Meeting
DESCRIPTION:
URL:https://mchistoricalsociety.org/event/genealogical-society-meeting/2026-09-01/
LOCATION:Marshall County Historical Society & Museum\, 123 N. Michigan Street\, Plymouth\, IN\, 46563\, United States
CATEGORIES:Genealogy Society Meeting
ATTACH;FMTTYPE=image/png:https://mchistoricalsociety.org/wp-content/uploads/2024/07/Genealogy-Society-Meeting-Web-Image.png
ORGANIZER;CN="Marshall County Genealogical Society":MAILTO:anita@mchistoricalsociety.org
END:VEVENT
BEGIN:VEVENT
DTSTART;TZID=UTC:20260905T110000
DTEND;TZID=UTC:20260905T130000
DTSTAMP:20260421T020354
CREATED:20240705T190513Z
LAST-MODIFIED:20260116T145106Z
UID:10000133-1788606000-1788613200@mchistoricalsociety.org
SUMMARY:Train Room is Open
DESCRIPTION:
URL:https://mchistoricalsociety.org/event/train-room-is-open/2026-09-05/
LOCATION:Marshall County Historical Society & Museum\, 123 N. Michigan Street\, Plymouth\, IN\, 46563\, United States
CATEGORIES:Train Room Open
ATTACH;FMTTYPE=image/jpeg:https://mchistoricalsociety.org/wp-content/uploads/2024/07/EVERY-SATURDAY-1100AM-200PM.jpg
ORGANIZER;CN="MC Historical Society & Museum":MAILTO:anitaboetsma@mchistoricalsociety.org
END:VEVENT
BEGIN:VEVENT
DTSTART;TZID=UTC:20260912T110000
DTEND;TZID=UTC:20260912T130000
DTSTAMP:20260421T020354
CREATED:20240705T190513Z
LAST-MODIFIED:20260116T145106Z
UID:10000134-1789210800-1789218000@mchistoricalsociety.org
SUMMARY:Train Room is Open
DESCRIPTION:
URL:https://mchistoricalsociety.org/event/train-room-is-open/2026-09-12/
LOCATION:Marshall County Historical Society & Museum\, 123 N. Michigan Street\, Plymouth\, IN\, 46563\, United States
CATEGORIES:Train Room Open
ATTACH;FMTTYPE=image/jpeg:https://mchistoricalsociety.org/wp-content/uploads/2024/07/EVERY-SATURDAY-1100AM-200PM.jpg
ORGANIZER;CN="MC Historical Society & Museum":MAILTO:anitaboetsma@mchistoricalsociety.org
END:VEVENT
BEGIN:VEVENT
DTSTART;TZID=UTC:20260919T110000
DTEND;TZID=UTC:20260919T130000
DTSTAMP:20260421T020354
CREATED:20240705T190513Z
LAST-MODIFIED:20260116T145106Z
UID:10000135-1789815600-1789822800@mchistoricalsociety.org
SUMMARY:Train Room is Open
DESCRIPTION:
URL:https://mchistoricalsociety.org/event/train-room-is-open/2026-09-19/
LOCATION:Marshall County Historical Society & Museum\, 123 N. Michigan Street\, Plymouth\, IN\, 46563\, United States
CATEGORIES:Train Room Open
ATTACH;FMTTYPE=image/jpeg:https://mchistoricalsociety.org/wp-content/uploads/2024/07/EVERY-SATURDAY-1100AM-200PM.jpg
ORGANIZER;CN="MC Historical Society & Museum":MAILTO:anitaboetsma@mchistoricalsociety.org
END:VEVENT
BEGIN:VEVENT
DTSTART;TZID=UTC:20260926T110000
DTEND;TZID=UTC:20260926T130000
DTSTAMP:20260421T020354
CREATED:20240705T190513Z
LAST-MODIFIED:20260116T145106Z
UID:10000136-1790420400-1790427600@mchistoricalsociety.org
SUMMARY:Train Room is Open
DESCRIPTION:
URL:https://mchistoricalsociety.org/event/train-room-is-open/2026-09-26/
LOCATION:Marshall County Historical Society & Museum\, 123 N. Michigan Street\, Plymouth\, IN\, 46563\, United States
CATEGORIES:Train Room Open
ATTACH;FMTTYPE=image/jpeg:https://mchistoricalsociety.org/wp-content/uploads/2024/07/EVERY-SATURDAY-1100AM-200PM.jpg
ORGANIZER;CN="MC Historical Society & Museum":MAILTO:anitaboetsma@mchistoricalsociety.org
END:VEVENT
BEGIN:VEVENT
DTSTART;TZID=UTC:20261003T110000
DTEND;TZID=UTC:20261003T130000
DTSTAMP:20260421T020354
CREATED:20240705T190513Z
LAST-MODIFIED:20260116T145106Z
UID:10000137-1791025200-1791032400@mchistoricalsociety.org
SUMMARY:Train Room is Open
DESCRIPTION:
URL:https://mchistoricalsociety.org/event/train-room-is-open/2026-10-03/
LOCATION:Marshall County Historical Society & Museum\, 123 N. Michigan Street\, Plymouth\, IN\, 46563\, United States
CATEGORIES:Train Room Open
ATTACH;FMTTYPE=image/jpeg:https://mchistoricalsociety.org/wp-content/uploads/2024/07/EVERY-SATURDAY-1100AM-200PM.jpg
ORGANIZER;CN="MC Historical Society & Museum":MAILTO:anitaboetsma@mchistoricalsociety.org
END:VEVENT
END:VCALENDAR