BEGIN:VCALENDAR
VERSION:2.0
PRODID:-//Marshall County Historical Society &amp; Museum - ECPv6.15.20//NONSGML v1.0//EN
CALSCALE:GREGORIAN
METHOD:PUBLISH
X-WR-CALNAME:Marshall County Historical Society &amp; Museum
X-ORIGINAL-URL:https://mchistoricalsociety.org
X-WR-CALDESC:Events for Marshall County Historical Society &amp; Museum
REFRESH-INTERVAL;VALUE=DURATION:PT1H
X-Robots-Tag:noindex
X-PUBLISHED-TTL:PT1H
BEGIN:VTIMEZONE
TZID:UTC
BEGIN:STANDARD
TZOFFSETFROM:+0000
TZOFFSETTO:+0000
TZNAME:UTC
DTSTART:20290101T000000
END:STANDARD
END:VTIMEZONE
BEGIN:VEVENT
DTSTART;TZID=UTC:20300406T110000
DTEND;TZID=UTC:20300406T130000
DTSTAMP:20260422T224944
CREATED:20240705T190513Z
LAST-MODIFIED:20260116T145106Z
UID:10000431-1901703600-1901710800@mchistoricalsociety.org
SUMMARY:Train Room is Open
DESCRIPTION:
URL:https://mchistoricalsociety.org/event/train-room-is-open/2030-04-06/
LOCATION:Marshall County Historical Society & Museum\, 123 N. Michigan Street\, Plymouth\, IN\, 46563\, United States
CATEGORIES:Train Room Open
ATTACH;FMTTYPE=image/jpeg:https://mchistoricalsociety.org/wp-content/uploads/2024/07/EVERY-SATURDAY-1100AM-200PM.jpg
ORGANIZER;CN="MC Historical Society & Museum":MAILTO:anitaboetsma@mchistoricalsociety.org
END:VEVENT
BEGIN:VEVENT
DTSTART;TZID=UTC:20300413T110000
DTEND;TZID=UTC:20300413T130000
DTSTAMP:20260422T224944
CREATED:20240705T190513Z
LAST-MODIFIED:20260116T145106Z
UID:10000432-1902308400-1902315600@mchistoricalsociety.org
SUMMARY:Train Room is Open
DESCRIPTION:
URL:https://mchistoricalsociety.org/event/train-room-is-open/2030-04-13/
LOCATION:Marshall County Historical Society & Museum\, 123 N. Michigan Street\, Plymouth\, IN\, 46563\, United States
CATEGORIES:Train Room Open
ATTACH;FMTTYPE=image/jpeg:https://mchistoricalsociety.org/wp-content/uploads/2024/07/EVERY-SATURDAY-1100AM-200PM.jpg
ORGANIZER;CN="MC Historical Society & Museum":MAILTO:anitaboetsma@mchistoricalsociety.org
END:VEVENT
BEGIN:VEVENT
DTSTART;TZID=UTC:20300420T110000
DTEND;TZID=UTC:20300420T130000
DTSTAMP:20260422T224944
CREATED:20240705T190513Z
LAST-MODIFIED:20260116T145106Z
UID:10000433-1902913200-1902920400@mchistoricalsociety.org
SUMMARY:Train Room is Open
DESCRIPTION:
URL:https://mchistoricalsociety.org/event/train-room-is-open/2030-04-20/
LOCATION:Marshall County Historical Society & Museum\, 123 N. Michigan Street\, Plymouth\, IN\, 46563\, United States
CATEGORIES:Train Room Open
ATTACH;FMTTYPE=image/jpeg:https://mchistoricalsociety.org/wp-content/uploads/2024/07/EVERY-SATURDAY-1100AM-200PM.jpg
ORGANIZER;CN="MC Historical Society & Museum":MAILTO:anitaboetsma@mchistoricalsociety.org
END:VEVENT
BEGIN:VEVENT
DTSTART;TZID=UTC:20300427T110000
DTEND;TZID=UTC:20300427T130000
DTSTAMP:20260422T224944
CREATED:20240705T190513Z
LAST-MODIFIED:20260116T145106Z
UID:10000434-1903518000-1903525200@mchistoricalsociety.org
SUMMARY:Train Room is Open
DESCRIPTION:
URL:https://mchistoricalsociety.org/event/train-room-is-open/2030-04-27/
LOCATION:Marshall County Historical Society & Museum\, 123 N. Michigan Street\, Plymouth\, IN\, 46563\, United States
CATEGORIES:Train Room Open
ATTACH;FMTTYPE=image/jpeg:https://mchistoricalsociety.org/wp-content/uploads/2024/07/EVERY-SATURDAY-1100AM-200PM.jpg
ORGANIZER;CN="MC Historical Society & Museum":MAILTO:anitaboetsma@mchistoricalsociety.org
END:VEVENT
BEGIN:VEVENT
DTSTART;TZID=UTC:20300504T110000
DTEND;TZID=UTC:20300504T130000
DTSTAMP:20260422T224944
CREATED:20240705T190513Z
LAST-MODIFIED:20260116T145106Z
UID:10000435-1904122800-1904130000@mchistoricalsociety.org
SUMMARY:Train Room is Open
DESCRIPTION:
URL:https://mchistoricalsociety.org/event/train-room-is-open/2030-05-04/
LOCATION:Marshall County Historical Society & Museum\, 123 N. Michigan Street\, Plymouth\, IN\, 46563\, United States
CATEGORIES:Train Room Open
ATTACH;FMTTYPE=image/jpeg:https://mchistoricalsociety.org/wp-content/uploads/2024/07/EVERY-SATURDAY-1100AM-200PM.jpg
ORGANIZER;CN="MC Historical Society & Museum":MAILTO:anitaboetsma@mchistoricalsociety.org
END:VEVENT
BEGIN:VEVENT
DTSTART;TZID=UTC:20300511T110000
DTEND;TZID=UTC:20300511T130000
DTSTAMP:20260422T224944
CREATED:20240705T190513Z
LAST-MODIFIED:20260116T145106Z
UID:10000436-1904727600-1904734800@mchistoricalsociety.org
SUMMARY:Train Room is Open
DESCRIPTION:
URL:https://mchistoricalsociety.org/event/train-room-is-open/2030-05-11/
LOCATION:Marshall County Historical Society & Museum\, 123 N. Michigan Street\, Plymouth\, IN\, 46563\, United States
CATEGORIES:Train Room Open
ATTACH;FMTTYPE=image/jpeg:https://mchistoricalsociety.org/wp-content/uploads/2024/07/EVERY-SATURDAY-1100AM-200PM.jpg
ORGANIZER;CN="MC Historical Society & Museum":MAILTO:anitaboetsma@mchistoricalsociety.org
END:VEVENT
BEGIN:VEVENT
DTSTART;TZID=UTC:20300518T110000
DTEND;TZID=UTC:20300518T130000
DTSTAMP:20260422T224944
CREATED:20240705T190513Z
LAST-MODIFIED:20260116T145106Z
UID:10000437-1905332400-1905339600@mchistoricalsociety.org
SUMMARY:Train Room is Open
DESCRIPTION:
URL:https://mchistoricalsociety.org/event/train-room-is-open/2030-05-18/
LOCATION:Marshall County Historical Society & Museum\, 123 N. Michigan Street\, Plymouth\, IN\, 46563\, United States
CATEGORIES:Train Room Open
ATTACH;FMTTYPE=image/jpeg:https://mchistoricalsociety.org/wp-content/uploads/2024/07/EVERY-SATURDAY-1100AM-200PM.jpg
ORGANIZER;CN="MC Historical Society & Museum":MAILTO:anitaboetsma@mchistoricalsociety.org
END:VEVENT
BEGIN:VEVENT
DTSTART;TZID=UTC:20300525T110000
DTEND;TZID=UTC:20300525T130000
DTSTAMP:20260422T224944
CREATED:20240705T190513Z
LAST-MODIFIED:20260116T145106Z
UID:10000438-1905937200-1905944400@mchistoricalsociety.org
SUMMARY:Train Room is Open
DESCRIPTION:
URL:https://mchistoricalsociety.org/event/train-room-is-open/2030-05-25/
LOCATION:Marshall County Historical Society & Museum\, 123 N. Michigan Street\, Plymouth\, IN\, 46563\, United States
CATEGORIES:Train Room Open
ATTACH;FMTTYPE=image/jpeg:https://mchistoricalsociety.org/wp-content/uploads/2024/07/EVERY-SATURDAY-1100AM-200PM.jpg
ORGANIZER;CN="MC Historical Society & Museum":MAILTO:anitaboetsma@mchistoricalsociety.org
END:VEVENT
BEGIN:VEVENT
DTSTART;TZID=UTC:20300601T110000
DTEND;TZID=UTC:20300601T130000
DTSTAMP:20260422T224944
CREATED:20240705T190513Z
LAST-MODIFIED:20260116T145106Z
UID:10000439-1906542000-1906549200@mchistoricalsociety.org
SUMMARY:Train Room is Open
DESCRIPTION:
URL:https://mchistoricalsociety.org/event/train-room-is-open/2030-06-01/
LOCATION:Marshall County Historical Society & Museum\, 123 N. Michigan Street\, Plymouth\, IN\, 46563\, United States
CATEGORIES:Train Room Open
ATTACH;FMTTYPE=image/jpeg:https://mchistoricalsociety.org/wp-content/uploads/2024/07/EVERY-SATURDAY-1100AM-200PM.jpg
ORGANIZER;CN="MC Historical Society & Museum":MAILTO:anitaboetsma@mchistoricalsociety.org
END:VEVENT
BEGIN:VEVENT
DTSTART;TZID=UTC:20300608T110000
DTEND;TZID=UTC:20300608T130000
DTSTAMP:20260422T224944
CREATED:20240705T190513Z
LAST-MODIFIED:20260116T145106Z
UID:10000440-1907146800-1907154000@mchistoricalsociety.org
SUMMARY:Train Room is Open
DESCRIPTION:
URL:https://mchistoricalsociety.org/event/train-room-is-open/2030-06-08/
LOCATION:Marshall County Historical Society & Museum\, 123 N. Michigan Street\, Plymouth\, IN\, 46563\, United States
CATEGORIES:Train Room Open
ATTACH;FMTTYPE=image/jpeg:https://mchistoricalsociety.org/wp-content/uploads/2024/07/EVERY-SATURDAY-1100AM-200PM.jpg
ORGANIZER;CN="MC Historical Society & Museum":MAILTO:anitaboetsma@mchistoricalsociety.org
END:VEVENT
BEGIN:VEVENT
DTSTART;TZID=UTC:20300615T110000
DTEND;TZID=UTC:20300615T130000
DTSTAMP:20260422T224944
CREATED:20240705T190513Z
LAST-MODIFIED:20260116T145106Z
UID:10000441-1907751600-1907758800@mchistoricalsociety.org
SUMMARY:Train Room is Open
DESCRIPTION:
URL:https://mchistoricalsociety.org/event/train-room-is-open/2030-06-15/
LOCATION:Marshall County Historical Society & Museum\, 123 N. Michigan Street\, Plymouth\, IN\, 46563\, United States
CATEGORIES:Train Room Open
ATTACH;FMTTYPE=image/jpeg:https://mchistoricalsociety.org/wp-content/uploads/2024/07/EVERY-SATURDAY-1100AM-200PM.jpg
ORGANIZER;CN="MC Historical Society & Museum":MAILTO:anitaboetsma@mchistoricalsociety.org
END:VEVENT
BEGIN:VEVENT
DTSTART;TZID=UTC:20300622T110000
DTEND;TZID=UTC:20300622T130000
DTSTAMP:20260422T224944
CREATED:20240705T190513Z
LAST-MODIFIED:20260116T145106Z
UID:10000442-1908356400-1908363600@mchistoricalsociety.org
SUMMARY:Train Room is Open
DESCRIPTION:
URL:https://mchistoricalsociety.org/event/train-room-is-open/2030-06-22/
LOCATION:Marshall County Historical Society & Museum\, 123 N. Michigan Street\, Plymouth\, IN\, 46563\, United States
CATEGORIES:Train Room Open
ATTACH;FMTTYPE=image/jpeg:https://mchistoricalsociety.org/wp-content/uploads/2024/07/EVERY-SATURDAY-1100AM-200PM.jpg
ORGANIZER;CN="MC Historical Society & Museum":MAILTO:anitaboetsma@mchistoricalsociety.org
END:VEVENT
BEGIN:VEVENT
DTSTART;TZID=UTC:20300629T110000
DTEND;TZID=UTC:20300629T130000
DTSTAMP:20260422T224944
CREATED:20240705T190513Z
LAST-MODIFIED:20260116T145106Z
UID:10000443-1908961200-1908968400@mchistoricalsociety.org
SUMMARY:Train Room is Open
DESCRIPTION:
URL:https://mchistoricalsociety.org/event/train-room-is-open/2030-06-29/
LOCATION:Marshall County Historical Society & Museum\, 123 N. Michigan Street\, Plymouth\, IN\, 46563\, United States
CATEGORIES:Train Room Open
ATTACH;FMTTYPE=image/jpeg:https://mchistoricalsociety.org/wp-content/uploads/2024/07/EVERY-SATURDAY-1100AM-200PM.jpg
ORGANIZER;CN="MC Historical Society & Museum":MAILTO:anitaboetsma@mchistoricalsociety.org
END:VEVENT
BEGIN:VEVENT
DTSTART;TZID=UTC:20300706T110000
DTEND;TZID=UTC:20300706T130000
DTSTAMP:20260422T224944
CREATED:20240705T190513Z
LAST-MODIFIED:20260116T145106Z
UID:10000444-1909566000-1909573200@mchistoricalsociety.org
SUMMARY:Train Room is Open
DESCRIPTION:
URL:https://mchistoricalsociety.org/event/train-room-is-open/2030-07-06/
LOCATION:Marshall County Historical Society & Museum\, 123 N. Michigan Street\, Plymouth\, IN\, 46563\, United States
CATEGORIES:Train Room Open
ATTACH;FMTTYPE=image/jpeg:https://mchistoricalsociety.org/wp-content/uploads/2024/07/EVERY-SATURDAY-1100AM-200PM.jpg
ORGANIZER;CN="MC Historical Society & Museum":MAILTO:anitaboetsma@mchistoricalsociety.org
END:VEVENT
BEGIN:VEVENT
DTSTART;TZID=UTC:20300713T110000
DTEND;TZID=UTC:20300713T130000
DTSTAMP:20260422T224944
CREATED:20240705T190513Z
LAST-MODIFIED:20260116T145106Z
UID:10000445-1910170800-1910178000@mchistoricalsociety.org
SUMMARY:Train Room is Open
DESCRIPTION:
URL:https://mchistoricalsociety.org/event/train-room-is-open/2030-07-13/
LOCATION:Marshall County Historical Society & Museum\, 123 N. Michigan Street\, Plymouth\, IN\, 46563\, United States
CATEGORIES:Train Room Open
ATTACH;FMTTYPE=image/jpeg:https://mchistoricalsociety.org/wp-content/uploads/2024/07/EVERY-SATURDAY-1100AM-200PM.jpg
ORGANIZER;CN="MC Historical Society & Museum":MAILTO:anitaboetsma@mchistoricalsociety.org
END:VEVENT
BEGIN:VEVENT
DTSTART;TZID=UTC:20300720T110000
DTEND;TZID=UTC:20300720T130000
DTSTAMP:20260422T224944
CREATED:20240705T190513Z
LAST-MODIFIED:20260116T145106Z
UID:10000446-1910775600-1910782800@mchistoricalsociety.org
SUMMARY:Train Room is Open
DESCRIPTION:
URL:https://mchistoricalsociety.org/event/train-room-is-open/2030-07-20/
LOCATION:Marshall County Historical Society & Museum\, 123 N. Michigan Street\, Plymouth\, IN\, 46563\, United States
CATEGORIES:Train Room Open
ATTACH;FMTTYPE=image/jpeg:https://mchistoricalsociety.org/wp-content/uploads/2024/07/EVERY-SATURDAY-1100AM-200PM.jpg
ORGANIZER;CN="MC Historical Society & Museum":MAILTO:anitaboetsma@mchistoricalsociety.org
END:VEVENT
BEGIN:VEVENT
DTSTART;TZID=UTC:20300727T110000
DTEND;TZID=UTC:20300727T130000
DTSTAMP:20260422T224944
CREATED:20240705T190513Z
LAST-MODIFIED:20260116T145106Z
UID:10000447-1911380400-1911387600@mchistoricalsociety.org
SUMMARY:Train Room is Open
DESCRIPTION:
URL:https://mchistoricalsociety.org/event/train-room-is-open/2030-07-27/
LOCATION:Marshall County Historical Society & Museum\, 123 N. Michigan Street\, Plymouth\, IN\, 46563\, United States
CATEGORIES:Train Room Open
ATTACH;FMTTYPE=image/jpeg:https://mchistoricalsociety.org/wp-content/uploads/2024/07/EVERY-SATURDAY-1100AM-200PM.jpg
ORGANIZER;CN="MC Historical Society & Museum":MAILTO:anitaboetsma@mchistoricalsociety.org
END:VEVENT
BEGIN:VEVENT
DTSTART;TZID=UTC:20300803T110000
DTEND;TZID=UTC:20300803T130000
DTSTAMP:20260422T224944
CREATED:20240705T190513Z
LAST-MODIFIED:20260116T145106Z
UID:10000448-1911985200-1911992400@mchistoricalsociety.org
SUMMARY:Train Room is Open
DESCRIPTION:
URL:https://mchistoricalsociety.org/event/train-room-is-open/2030-08-03/
LOCATION:Marshall County Historical Society & Museum\, 123 N. Michigan Street\, Plymouth\, IN\, 46563\, United States
CATEGORIES:Train Room Open
ATTACH;FMTTYPE=image/jpeg:https://mchistoricalsociety.org/wp-content/uploads/2024/07/EVERY-SATURDAY-1100AM-200PM.jpg
ORGANIZER;CN="MC Historical Society & Museum":MAILTO:anitaboetsma@mchistoricalsociety.org
END:VEVENT
BEGIN:VEVENT
DTSTART;TZID=UTC:20300810T110000
DTEND;TZID=UTC:20300810T130000
DTSTAMP:20260422T224944
CREATED:20240705T190513Z
LAST-MODIFIED:20260116T145106Z
UID:10000449-1912590000-1912597200@mchistoricalsociety.org
SUMMARY:Train Room is Open
DESCRIPTION:
URL:https://mchistoricalsociety.org/event/train-room-is-open/2030-08-10/
LOCATION:Marshall County Historical Society & Museum\, 123 N. Michigan Street\, Plymouth\, IN\, 46563\, United States
CATEGORIES:Train Room Open
ATTACH;FMTTYPE=image/jpeg:https://mchistoricalsociety.org/wp-content/uploads/2024/07/EVERY-SATURDAY-1100AM-200PM.jpg
ORGANIZER;CN="MC Historical Society & Museum":MAILTO:anitaboetsma@mchistoricalsociety.org
END:VEVENT
BEGIN:VEVENT
DTSTART;TZID=UTC:20300817T110000
DTEND;TZID=UTC:20300817T130000
DTSTAMP:20260422T224944
CREATED:20240705T190513Z
LAST-MODIFIED:20260116T145106Z
UID:10000450-1913194800-1913202000@mchistoricalsociety.org
SUMMARY:Train Room is Open
DESCRIPTION:
URL:https://mchistoricalsociety.org/event/train-room-is-open/2030-08-17/
LOCATION:Marshall County Historical Society & Museum\, 123 N. Michigan Street\, Plymouth\, IN\, 46563\, United States
CATEGORIES:Train Room Open
ATTACH;FMTTYPE=image/jpeg:https://mchistoricalsociety.org/wp-content/uploads/2024/07/EVERY-SATURDAY-1100AM-200PM.jpg
ORGANIZER;CN="MC Historical Society & Museum":MAILTO:anitaboetsma@mchistoricalsociety.org
END:VEVENT
BEGIN:VEVENT
DTSTART;TZID=UTC:20300824T110000
DTEND;TZID=UTC:20300824T130000
DTSTAMP:20260422T224944
CREATED:20240705T190513Z
LAST-MODIFIED:20260116T145106Z
UID:10000451-1913799600-1913806800@mchistoricalsociety.org
SUMMARY:Train Room is Open
DESCRIPTION:
URL:https://mchistoricalsociety.org/event/train-room-is-open/2030-08-24/
LOCATION:Marshall County Historical Society & Museum\, 123 N. Michigan Street\, Plymouth\, IN\, 46563\, United States
CATEGORIES:Train Room Open
ATTACH;FMTTYPE=image/jpeg:https://mchistoricalsociety.org/wp-content/uploads/2024/07/EVERY-SATURDAY-1100AM-200PM.jpg
ORGANIZER;CN="MC Historical Society & Museum":MAILTO:anitaboetsma@mchistoricalsociety.org
END:VEVENT
BEGIN:VEVENT
DTSTART;TZID=UTC:20300831T110000
DTEND;TZID=UTC:20300831T130000
DTSTAMP:20260422T224944
CREATED:20240705T190513Z
LAST-MODIFIED:20260116T145106Z
UID:10000452-1914404400-1914411600@mchistoricalsociety.org
SUMMARY:Train Room is Open
DESCRIPTION:
URL:https://mchistoricalsociety.org/event/train-room-is-open/2030-08-31/
LOCATION:Marshall County Historical Society & Museum\, 123 N. Michigan Street\, Plymouth\, IN\, 46563\, United States
CATEGORIES:Train Room Open
ATTACH;FMTTYPE=image/jpeg:https://mchistoricalsociety.org/wp-content/uploads/2024/07/EVERY-SATURDAY-1100AM-200PM.jpg
ORGANIZER;CN="MC Historical Society & Museum":MAILTO:anitaboetsma@mchistoricalsociety.org
END:VEVENT
BEGIN:VEVENT
DTSTART;TZID=UTC:20300907T110000
DTEND;TZID=UTC:20300907T130000
DTSTAMP:20260422T224944
CREATED:20240705T190513Z
LAST-MODIFIED:20260116T145106Z
UID:10000453-1915009200-1915016400@mchistoricalsociety.org
SUMMARY:Train Room is Open
DESCRIPTION:
URL:https://mchistoricalsociety.org/event/train-room-is-open/2030-09-07/
LOCATION:Marshall County Historical Society & Museum\, 123 N. Michigan Street\, Plymouth\, IN\, 46563\, United States
CATEGORIES:Train Room Open
ATTACH;FMTTYPE=image/jpeg:https://mchistoricalsociety.org/wp-content/uploads/2024/07/EVERY-SATURDAY-1100AM-200PM.jpg
ORGANIZER;CN="MC Historical Society & Museum":MAILTO:anitaboetsma@mchistoricalsociety.org
END:VEVENT
BEGIN:VEVENT
DTSTART;TZID=UTC:20300914T110000
DTEND;TZID=UTC:20300914T130000
DTSTAMP:20260422T224944
CREATED:20240705T190513Z
LAST-MODIFIED:20260116T145106Z
UID:10000454-1915614000-1915621200@mchistoricalsociety.org
SUMMARY:Train Room is Open
DESCRIPTION:
URL:https://mchistoricalsociety.org/event/train-room-is-open/2030-09-14/
LOCATION:Marshall County Historical Society & Museum\, 123 N. Michigan Street\, Plymouth\, IN\, 46563\, United States
CATEGORIES:Train Room Open
ATTACH;FMTTYPE=image/jpeg:https://mchistoricalsociety.org/wp-content/uploads/2024/07/EVERY-SATURDAY-1100AM-200PM.jpg
ORGANIZER;CN="MC Historical Society & Museum":MAILTO:anitaboetsma@mchistoricalsociety.org
END:VEVENT
BEGIN:VEVENT
DTSTART;TZID=UTC:20300921T110000
DTEND;TZID=UTC:20300921T130000
DTSTAMP:20260422T224944
CREATED:20240705T190513Z
LAST-MODIFIED:20260116T145106Z
UID:10000455-1916218800-1916226000@mchistoricalsociety.org
SUMMARY:Train Room is Open
DESCRIPTION:
URL:https://mchistoricalsociety.org/event/train-room-is-open/2030-09-21/
LOCATION:Marshall County Historical Society & Museum\, 123 N. Michigan Street\, Plymouth\, IN\, 46563\, United States
CATEGORIES:Train Room Open
ATTACH;FMTTYPE=image/jpeg:https://mchistoricalsociety.org/wp-content/uploads/2024/07/EVERY-SATURDAY-1100AM-200PM.jpg
ORGANIZER;CN="MC Historical Society & Museum":MAILTO:anitaboetsma@mchistoricalsociety.org
END:VEVENT
BEGIN:VEVENT
DTSTART;TZID=UTC:20300928T110000
DTEND;TZID=UTC:20300928T130000
DTSTAMP:20260422T224944
CREATED:20240705T190513Z
LAST-MODIFIED:20260116T145106Z
UID:10000456-1916823600-1916830800@mchistoricalsociety.org
SUMMARY:Train Room is Open
DESCRIPTION:
URL:https://mchistoricalsociety.org/event/train-room-is-open/2030-09-28/
LOCATION:Marshall County Historical Society & Museum\, 123 N. Michigan Street\, Plymouth\, IN\, 46563\, United States
CATEGORIES:Train Room Open
ATTACH;FMTTYPE=image/jpeg:https://mchistoricalsociety.org/wp-content/uploads/2024/07/EVERY-SATURDAY-1100AM-200PM.jpg
ORGANIZER;CN="MC Historical Society & Museum":MAILTO:anitaboetsma@mchistoricalsociety.org
END:VEVENT
BEGIN:VEVENT
DTSTART;TZID=UTC:20301005T110000
DTEND;TZID=UTC:20301005T130000
DTSTAMP:20260422T224944
CREATED:20240705T190513Z
LAST-MODIFIED:20260116T145106Z
UID:10000457-1917428400-1917435600@mchistoricalsociety.org
SUMMARY:Train Room is Open
DESCRIPTION:
URL:https://mchistoricalsociety.org/event/train-room-is-open/2030-10-05/
LOCATION:Marshall County Historical Society & Museum\, 123 N. Michigan Street\, Plymouth\, IN\, 46563\, United States
CATEGORIES:Train Room Open
ATTACH;FMTTYPE=image/jpeg:https://mchistoricalsociety.org/wp-content/uploads/2024/07/EVERY-SATURDAY-1100AM-200PM.jpg
ORGANIZER;CN="MC Historical Society & Museum":MAILTO:anitaboetsma@mchistoricalsociety.org
END:VEVENT
BEGIN:VEVENT
DTSTART;TZID=UTC:20301012T110000
DTEND;TZID=UTC:20301012T130000
DTSTAMP:20260422T224944
CREATED:20240705T190513Z
LAST-MODIFIED:20260116T145106Z
UID:10000458-1918033200-1918040400@mchistoricalsociety.org
SUMMARY:Train Room is Open
DESCRIPTION:
URL:https://mchistoricalsociety.org/event/train-room-is-open/2030-10-12/
LOCATION:Marshall County Historical Society & Museum\, 123 N. Michigan Street\, Plymouth\, IN\, 46563\, United States
CATEGORIES:Train Room Open
ATTACH;FMTTYPE=image/jpeg:https://mchistoricalsociety.org/wp-content/uploads/2024/07/EVERY-SATURDAY-1100AM-200PM.jpg
ORGANIZER;CN="MC Historical Society & Museum":MAILTO:anitaboetsma@mchistoricalsociety.org
END:VEVENT
BEGIN:VEVENT
DTSTART;TZID=UTC:20301019T110000
DTEND;TZID=UTC:20301019T130000
DTSTAMP:20260422T224944
CREATED:20240705T190513Z
LAST-MODIFIED:20260116T145106Z
UID:10000459-1918638000-1918645200@mchistoricalsociety.org
SUMMARY:Train Room is Open
DESCRIPTION:
URL:https://mchistoricalsociety.org/event/train-room-is-open/2030-10-19/
LOCATION:Marshall County Historical Society & Museum\, 123 N. Michigan Street\, Plymouth\, IN\, 46563\, United States
CATEGORIES:Train Room Open
ATTACH;FMTTYPE=image/jpeg:https://mchistoricalsociety.org/wp-content/uploads/2024/07/EVERY-SATURDAY-1100AM-200PM.jpg
ORGANIZER;CN="MC Historical Society & Museum":MAILTO:anitaboetsma@mchistoricalsociety.org
END:VEVENT
BEGIN:VEVENT
DTSTART;TZID=UTC:20301026T110000
DTEND;TZID=UTC:20301026T130000
DTSTAMP:20260422T224944
CREATED:20240705T190513Z
LAST-MODIFIED:20260116T145106Z
UID:10000460-1919242800-1919250000@mchistoricalsociety.org
SUMMARY:Train Room is Open
DESCRIPTION:
URL:https://mchistoricalsociety.org/event/train-room-is-open/2030-10-26/
LOCATION:Marshall County Historical Society & Museum\, 123 N. Michigan Street\, Plymouth\, IN\, 46563\, United States
CATEGORIES:Train Room Open
ATTACH;FMTTYPE=image/jpeg:https://mchistoricalsociety.org/wp-content/uploads/2024/07/EVERY-SATURDAY-1100AM-200PM.jpg
ORGANIZER;CN="MC Historical Society & Museum":MAILTO:anitaboetsma@mchistoricalsociety.org
END:VEVENT
END:VCALENDAR