BEGIN:VCALENDAR
VERSION:2.0
PRODID:-//Marshall County Historical Society &amp; Museum - ECPv6.15.20//NONSGML v1.0//EN
CALSCALE:GREGORIAN
METHOD:PUBLISH
X-WR-CALNAME:Marshall County Historical Society &amp; Museum
X-ORIGINAL-URL:https://mchistoricalsociety.org
X-WR-CALDESC:Events for Marshall County Historical Society &amp; Museum
REFRESH-INTERVAL;VALUE=DURATION:PT1H
X-Robots-Tag:noindex
X-PUBLISHED-TTL:PT1H
BEGIN:VTIMEZONE
TZID:UTC
BEGIN:STANDARD
TZOFFSETFROM:+0000
TZOFFSETTO:+0000
TZNAME:UTC
DTSTART:20250101T000000
END:STANDARD
END:VTIMEZONE
BEGIN:VEVENT
DTSTART;TZID=UTC:20260307T110000
DTEND;TZID=UTC:20260307T130000
DTSTAMP:20260421T053529
CREATED:20240705T190513Z
LAST-MODIFIED:20260116T145106Z
UID:10000107-1772881200-1772888400@mchistoricalsociety.org
SUMMARY:Train Room is Open
DESCRIPTION:
URL:https://mchistoricalsociety.org/event/train-room-is-open/2026-03-07/
LOCATION:Marshall County Historical Society & Museum\, 123 N. Michigan Street\, Plymouth\, IN\, 46563\, United States
CATEGORIES:Train Room Open
ATTACH;FMTTYPE=image/jpeg:https://mchistoricalsociety.org/wp-content/uploads/2024/07/EVERY-SATURDAY-1100AM-200PM.jpg
ORGANIZER;CN="MC Historical Society & Museum":MAILTO:anitaboetsma@mchistoricalsociety.org
END:VEVENT
BEGIN:VEVENT
DTSTART;TZID=UTC:20260314T110000
DTEND;TZID=UTC:20260314T130000
DTSTAMP:20260421T053529
CREATED:20240705T190513Z
LAST-MODIFIED:20260116T145106Z
UID:10000108-1773486000-1773493200@mchistoricalsociety.org
SUMMARY:Train Room is Open
DESCRIPTION:
URL:https://mchistoricalsociety.org/event/train-room-is-open/2026-03-14/
LOCATION:Marshall County Historical Society & Museum\, 123 N. Michigan Street\, Plymouth\, IN\, 46563\, United States
CATEGORIES:Train Room Open
ATTACH;FMTTYPE=image/jpeg:https://mchistoricalsociety.org/wp-content/uploads/2024/07/EVERY-SATURDAY-1100AM-200PM.jpg
ORGANIZER;CN="MC Historical Society & Museum":MAILTO:anitaboetsma@mchistoricalsociety.org
END:VEVENT
BEGIN:VEVENT
DTSTART;TZID=UTC:20260321T110000
DTEND;TZID=UTC:20260321T130000
DTSTAMP:20260421T053529
CREATED:20240705T190513Z
LAST-MODIFIED:20260116T145106Z
UID:10000109-1774090800-1774098000@mchistoricalsociety.org
SUMMARY:Train Room is Open
DESCRIPTION:
URL:https://mchistoricalsociety.org/event/train-room-is-open/2026-03-21/
LOCATION:Marshall County Historical Society & Museum\, 123 N. Michigan Street\, Plymouth\, IN\, 46563\, United States
CATEGORIES:Train Room Open
ATTACH;FMTTYPE=image/jpeg:https://mchistoricalsociety.org/wp-content/uploads/2024/07/EVERY-SATURDAY-1100AM-200PM.jpg
ORGANIZER;CN="MC Historical Society & Museum":MAILTO:anitaboetsma@mchistoricalsociety.org
END:VEVENT
BEGIN:VEVENT
DTSTART;TZID=UTC:20260328T110000
DTEND;TZID=UTC:20260328T130000
DTSTAMP:20260421T053529
CREATED:20240705T190513Z
LAST-MODIFIED:20260116T145106Z
UID:10000110-1774695600-1774702800@mchistoricalsociety.org
SUMMARY:Train Room is Open
DESCRIPTION:
URL:https://mchistoricalsociety.org/event/train-room-is-open/2026-03-28/
LOCATION:Marshall County Historical Society & Museum\, 123 N. Michigan Street\, Plymouth\, IN\, 46563\, United States
CATEGORIES:Train Room Open
ATTACH;FMTTYPE=image/jpeg:https://mchistoricalsociety.org/wp-content/uploads/2024/07/EVERY-SATURDAY-1100AM-200PM.jpg
ORGANIZER;CN="MC Historical Society & Museum":MAILTO:anitaboetsma@mchistoricalsociety.org
END:VEVENT
END:VCALENDAR